BEGIN:VCALENDAR
VERSION:2.0
PRODID:-//KIWA Radio - ECPv6.15.20//NONSGML v1.0//EN
CALSCALE:GREGORIAN
METHOD:PUBLISH
X-WR-CALNAME:KIWA Radio
X-ORIGINAL-URL:https://kiwaradio.com
X-WR-CALDESC:Events for KIWA Radio
REFRESH-INTERVAL;VALUE=DURATION:PT1H
X-Robots-Tag:noindex
X-PUBLISHED-TTL:PT1H
BEGIN:VTIMEZONE
TZID:America/Chicago
BEGIN:DAYLIGHT
TZOFFSETFROM:-0600
TZOFFSETTO:-0500
TZNAME:CDT
DTSTART:20210314T080000
END:DAYLIGHT
BEGIN:STANDARD
TZOFFSETFROM:-0500
TZOFFSETTO:-0600
TZNAME:CST
DTSTART:20211107T070000
END:STANDARD
BEGIN:DAYLIGHT
TZOFFSETFROM:-0600
TZOFFSETTO:-0500
TZNAME:CDT
DTSTART:20220313T080000
END:DAYLIGHT
BEGIN:STANDARD
TZOFFSETFROM:-0500
TZOFFSETTO:-0600
TZNAME:CST
DTSTART:20221106T070000
END:STANDARD
BEGIN:DAYLIGHT
TZOFFSETFROM:-0600
TZOFFSETTO:-0500
TZNAME:CDT
DTSTART:20230312T080000
END:DAYLIGHT
BEGIN:STANDARD
TZOFFSETFROM:-0500
TZOFFSETTO:-0600
TZNAME:CST
DTSTART:20231105T070000
END:STANDARD
END:VTIMEZONE
BEGIN:VEVENT
DTSTART;VALUE=DATE:20220916
DTEND;VALUE=DATE:20221002
DTSTAMP:20260420T152129
CREATED:20220916T150746Z
LAST-MODIFIED:20220916T150746Z
UID:10001608-1663300800-1664596799@kiwaradio.com
SUMMARY:Immanuel Apple Pie Sales
DESCRIPTION:
URL:https://kiwaradio.com/event/immanuel-apple-pie-sales/
CATEGORIES:Community Calendar - Have an event happening? Email us at newstips@kiwaradio.com!
ATTACH;FMTTYPE=image/jpeg:https://kiwaradio.com/wp-content/uploads/Immanuel-Pie.jpg
END:VEVENT
BEGIN:VEVENT
DTSTART;VALUE=DATE:20220930
DTEND;VALUE=DATE:20221002
DTSTAMP:20260420T152129
CREATED:20220923T184427Z
LAST-MODIFIED:20220923T184427Z
UID:10001625-1664510400-1664596799@kiwaradio.com
SUMMARY:Sheldon FFA Homecoming BBQ
DESCRIPTION:Sheldon FFA will be doing a Homecoming BBQ on Friday\, September 30th before the game. Hamburger Meal will be $10\, Hotdog Meal will be $6. Tickets will be limited\, so get them ahead of time by getting ahold of an FFA member or Mr. Jacob Fox from Sheldon High School.
URL:https://kiwaradio.com/event/sheldon-ffa-homecoming-bbq/
CATEGORIES:Community Calendar - Have an event happening? Email us at newstips@kiwaradio.com!
ATTACH;FMTTYPE=image/jpeg:https://kiwaradio.com/wp-content/uploads/Football-11.jpg
END:VEVENT
BEGIN:VEVENT
DTSTART;TZID=America/Chicago:20221001T080000
DTEND;TZID=America/Chicago:20221001T170000
DTSTAMP:20260420T152129
CREATED:20220802T192431Z
LAST-MODIFIED:20220802T192431Z
UID:10001548-1664611200-1664643600@kiwaradio.com
SUMMARY:Pink Pumpkin Run\, Walk\, Bike
DESCRIPTION:Pink Pumpkin Family Run (5K)\, Walk\, Bike for Breast Cancer Awareness\nSaturday\, October 1\, 2022 in Sibley\, IA at Osceola Regional Health Center \nSave $5 off your registration\, if you register before August 10!\nhttps://secure.getmeregistered.com/Pinkpumpkin5K
URL:https://kiwaradio.com/event/pink-pumpkin-run-walk-bike/
CATEGORIES:Community Calendar - Have an event happening? Email us at newstips@kiwaradio.com!
ATTACH;FMTTYPE=image/png:https://kiwaradio.com/wp-content/uploads/Pink-Pumpkin.png
END:VEVENT
BEGIN:VEVENT
DTSTART;TZID=America/Chicago:20221001T150000
DTEND;TZID=America/Chicago:20221001T150000
DTSTAMP:20260420T152129
CREATED:20220824T140646Z
LAST-MODIFIED:20220824T140646Z
UID:10001580-1664636400-1664636400@kiwaradio.com
SUMMARY:Hull Historical Society Tombstone Tour
DESCRIPTION:
URL:https://kiwaradio.com/event/hull-historical-society-tombstone-tour/
CATEGORIES:Community Calendar - Have an event happening? Email us at newstips@kiwaradio.com!
ATTACH;FMTTYPE=image/png:https://kiwaradio.com/wp-content/uploads/tombstone-tour.png
END:VEVENT
BEGIN:VEVENT
DTSTART;TZID=America/Chicago:20221001T193000
DTEND;TZID=America/Chicago:20221001T230000
DTSTAMP:20260420T152129
CREATED:20220926T131638Z
LAST-MODIFIED:20220926T131638Z
UID:10001626-1664652600-1664665200@kiwaradio.com
SUMMARY:NW IA Area Singles Dance
DESCRIPTION:The Northwest Iowa Area Singles will be having their dance Saturday\, Oct. 1st at the Hap Ketelsen Community Center in Everly\, Iowa. The doors are open at 6:30\, the dance is from 7:30pm – 11:00pm. The band will be The Interstate Cruisers. Put on your dancing shoes & come join us for a fun evening of dancing! Singles and married couples are welcome. You may bring snacks to share!
URL:https://kiwaradio.com/event/nw-ia-area-single-dance/
CATEGORIES:Community Calendar - Have an event happening? Email us at newstips@kiwaradio.com!
ATTACH;FMTTYPE=image/jpeg:https://kiwaradio.com/wp-content/uploads/Dance-2.jpg
END:VEVENT
END:VCALENDAR