BEGIN:VCALENDAR
VERSION:2.0
PRODID:-//KIWA Radio - ECPv6.15.20//NONSGML v1.0//EN
CALSCALE:GREGORIAN
METHOD:PUBLISH
X-ORIGINAL-URL:https://kiwaradio.com
X-WR-CALDESC:Events for KIWA Radio
REFRESH-INTERVAL;VALUE=DURATION:PT1H
X-Robots-Tag:noindex
X-PUBLISHED-TTL:PT1H
BEGIN:VTIMEZONE
TZID:America/Chicago
BEGIN:DAYLIGHT
TZOFFSETFROM:-0600
TZOFFSETTO:-0500
TZNAME:CDT
DTSTART:20220313T080000
END:DAYLIGHT
BEGIN:STANDARD
TZOFFSETFROM:-0500
TZOFFSETTO:-0600
TZNAME:CST
DTSTART:20221106T070000
END:STANDARD
BEGIN:DAYLIGHT
TZOFFSETFROM:-0600
TZOFFSETTO:-0500
TZNAME:CDT
DTSTART:20230312T080000
END:DAYLIGHT
BEGIN:STANDARD
TZOFFSETFROM:-0500
TZOFFSETTO:-0600
TZNAME:CST
DTSTART:20231105T070000
END:STANDARD
BEGIN:DAYLIGHT
TZOFFSETFROM:-0600
TZOFFSETTO:-0500
TZNAME:CDT
DTSTART:20240310T080000
END:DAYLIGHT
BEGIN:STANDARD
TZOFFSETFROM:-0500
TZOFFSETTO:-0600
TZNAME:CST
DTSTART:20241103T070000
END:STANDARD
END:VTIMEZONE
BEGIN:VEVENT
DTSTART;VALUE=DATE:20230801
DTEND;VALUE=DATE:20230917
DTSTAMP:20260420T134633
CREATED:20230801T144052Z
LAST-MODIFIED:20230801T144052Z
UID:10002098-1690862400-1694836799@kiwaradio.com
SUMMARY:Registration Open for Sheldon Clean-Up Week
DESCRIPTION:Sign-up information is available in the July utility billing\, on the table outside the City Clerk’s office\, or at the link below. Sign-ups must be received by Tuesday\, September 12. \nItems must not be set out until the evening of Friday\, September 15. \nSign-up for City of Sheldon Annual Clean-up week (Residential only). | City of Sheldon (sheldoniowa.gov)
URL:https://kiwaradio.com/event/registration-open-for-sheldon-clean-up-week/
CATEGORIES:Community Calendar - Have an event happening? Email us at newstips@kiwaradio.com!
ATTACH;FMTTYPE=image/jpeg:https://kiwaradio.com/wp-content/uploads/Clean-Up-Week.jpg
END:VEVENT
BEGIN:VEVENT
DTSTART;TZID=America/Chicago:20230823T080000
DTEND;TZID=America/Chicago:20230915T170000
DTSTAMP:20260420T134633
CREATED:20230823T205616Z
LAST-MODIFIED:20230823T205616Z
UID:10002130-1692777600-1694797200@kiwaradio.com
SUMMARY:Ashton St Mary's Sub Sandwich Sale
DESCRIPTION:
URL:https://kiwaradio.com/event/ashton-st-marys-sub-sandwich-sale/
CATEGORIES:Community Calendar - Have an event happening? Email us at newstips@kiwaradio.com!
END:VEVENT
BEGIN:VEVENT
DTSTART;TZID=America/Chicago:20230824T080000
DTEND;TZID=America/Chicago:20230903T140000
DTSTAMP:20260420T134633
CREATED:20230824T193909Z
LAST-MODIFIED:20230824T193909Z
UID:10002131-1692864000-1693749600@kiwaradio.com
SUMMARY:Jay Shelp Community Theatre ~ The Sound Of Music
DESCRIPTION:
URL:https://kiwaradio.com/event/jay-shelp-community-theatre-the-sound-of-music/
CATEGORIES:Community Calendar - Have an event happening? Email us at newstips@kiwaradio.com!
END:VEVENT
BEGIN:VEVENT
DTSTART;VALUE=DATE:20230826
DTEND;VALUE=DATE:20230829
DTSTAMP:20260420T134633
CREATED:20230811T130229Z
LAST-MODIFIED:20230811T130229Z
UID:10002109-1693022400-1693195199@kiwaradio.com
SUMMARY:2-Day Wrestling Clinic in Paullina
DESCRIPTION:The South O’Brien Wolverine wrestling club is holding a wrestling clinic at the Paullina Legion on August 26 and 27. We are having High Altitude Wrestling coming to run a clinic. This is a great opportunity for all area wrestlers. \nClinic Dates:\nAugust 26th & 27th                                                          \nSchedule For Clinics:\n8:00-9:30am  (technique)\n9:45-11:15am  (technique)\n11:30-1:00pm  (technique and live) \nLocation:\nPaullina Legion\n5624 460th St\nPaullina\, IA 51046 \nCost:\n$90 per wrestler\nNo Refunds (only camp credit) \nGrades:\nK-12th grade \nREGISTER : \nOnline (by clicking link below) or mail in bottom half of form to guarantee a spot! \nDownload Camp Flyer and Registration Form for Paullina: \nRegister For Camps Online By Clicking Button Below:\n \n\nCANCELLATION/REFUND POLICY: \nAll refunds for camps will be issued in the form of a camp credit towards future HAWC camps.  This camp credit is good for 1 year only! \nThere are NO refunds or camp credit for wrestlers leaving camp early!
URL:https://kiwaradio.com/event/2-day-wrestling-clinic/
CATEGORIES:Community Calendar - Have an event happening? Email us at newstips@kiwaradio.com!
ATTACH;FMTTYPE=image/jpeg:https://kiwaradio.com/wp-content/uploads/FB_IMG_1690408717018.jpg
END:VEVENT
BEGIN:VEVENT
DTSTART;TZID=America/Chicago:20230828T163000
DTEND;TZID=America/Chicago:20230828T180000
DTSTAMP:20260420T134633
CREATED:20230525T160324Z
LAST-MODIFIED:20230525T160324Z
UID:10002003-1693240200-1693245600@kiwaradio.com
SUMMARY:Sheldon Mobile Food Bank
DESCRIPTION:*Please note this is the food bank date for “September” since there was a conflict with the original September date. \nSheldon Mobile Food Bank\nat Living Water Community Church\n4:30-6:00 pm\nPlease bring along a box to take home your food.
URL:https://kiwaradio.com/event/sheldon-mobile-food-bank-31/
CATEGORIES:Community Calendar - Have an event happening? Email us at newstips@kiwaradio.com!
ATTACH;FMTTYPE=image/jpeg:https://kiwaradio.com/wp-content/uploads/Mobile-Food-Bank-1.jpg
END:VEVENT
BEGIN:VEVENT
DTSTART;TZID=America/Chicago:20230828T183000
DTEND;TZID=America/Chicago:20230828T183000
DTSTAMP:20260420T134633
CREATED:20230725T155202Z
LAST-MODIFIED:20230725T155202Z
UID:10002094-1693247400-1693247400@kiwaradio.com
SUMMARY:Adult Coloring & Knitting Night
DESCRIPTION:Adult Coloring and Knitting Night – Monday\, August 28 @ 6:30 \nEnjoy an evening of coloring or working on your favorite hobby. Ages 16+
URL:https://kiwaradio.com/event/adult-coloring-knitting-night-5/
CATEGORIES:Community Calendar - Have an event happening? Email us at newstips@kiwaradio.com!
ATTACH;FMTTYPE=image/jpeg:https://kiwaradio.com/wp-content/uploads/Adult-Coloring-Knitting-Night-2.jpg
END:VEVENT
END:VCALENDAR