BEGIN:VCALENDAR
VERSION:2.0
PRODID:-//KIWA Radio - ECPv6.15.20//NONSGML v1.0//EN
CALSCALE:GREGORIAN
METHOD:PUBLISH
X-WR-CALNAME:KIWA Radio
X-ORIGINAL-URL:https://kiwaradio.com
X-WR-CALDESC:Events for KIWA Radio
REFRESH-INTERVAL;VALUE=DURATION:PT1H
X-Robots-Tag:noindex
X-PUBLISHED-TTL:PT1H
BEGIN:VTIMEZONE
TZID:America/Chicago
BEGIN:DAYLIGHT
TZOFFSETFROM:-0600
TZOFFSETTO:-0500
TZNAME:CDT
DTSTART:20230312T080000
END:DAYLIGHT
BEGIN:STANDARD
TZOFFSETFROM:-0500
TZOFFSETTO:-0600
TZNAME:CST
DTSTART:20231105T070000
END:STANDARD
BEGIN:DAYLIGHT
TZOFFSETFROM:-0600
TZOFFSETTO:-0500
TZNAME:CDT
DTSTART:20240310T080000
END:DAYLIGHT
BEGIN:STANDARD
TZOFFSETFROM:-0500
TZOFFSETTO:-0600
TZNAME:CST
DTSTART:20241103T070000
END:STANDARD
BEGIN:DAYLIGHT
TZOFFSETFROM:-0600
TZOFFSETTO:-0500
TZNAME:CDT
DTSTART:20250309T080000
END:DAYLIGHT
BEGIN:STANDARD
TZOFFSETFROM:-0500
TZOFFSETTO:-0600
TZNAME:CST
DTSTART:20251102T070000
END:STANDARD
END:VTIMEZONE
BEGIN:VEVENT
DTSTART;VALUE=DATE:20240528
DTEND;VALUE=DATE:20240721
DTSTAMP:20260422T002222
CREATED:20240423T134330Z
LAST-MODIFIED:20240423T134330Z
UID:10008086-1716854400-1721519999@kiwaradio.com
SUMMARY:Sheldon Public Library Summer Program
DESCRIPTION:Summer Library Program at the Sheldon Public Library: Read\, Renew\, Repeat \nMay 28 – July 20 \n 
URL:https://kiwaradio.com/event/sheldon-public-library-summer-program/
END:VEVENT
BEGIN:VEVENT
DTSTART;TZID=America/Chicago:20240603T113000
DTEND;TZID=America/Chicago:20240809T124500
DTSTAMP:20260422T002222
CREATED:20240521T180735Z
LAST-MODIFIED:20240521T180735Z
UID:10008130-1717414200-1723207500@kiwaradio.com
SUMMARY:Free Summer Meals at the Sheldon East Elementary school
DESCRIPTION:Sheldon schools are serving free lunch meals starting June 3 and running to August 9 from 11:30 a.m. to 12:45 p.m. at the East Elementary Caeteria in Sheldon. These meals are available for children and teen 18 and under. \nFor kids that need a ride\, the bus schedule each day is below: \n11:00 a.m. Pine Street \n11:05 a.m. Little Orabs Learning Center \n11:11 a.m. Middle School \n11:17 a.m. Prairie Trail Road and Birch Lane \n11:23 a.m. Christian school \n11:35 a.m. Bethel \n11:40 a.m. Love Inc. \n11:44 a.m. Western Ave./ West 8th Street \n11:48 a.m. South Third Ave. \n11:53 a.m. St. Pats \n11:56 a.m. Community Gardens \nReminder: Please be waiting at the stop approximately five minutes before the assigned time. \n 
URL:https://kiwaradio.com/event/free-summer-meals-at-the-sheldon-east-elementary-school/
CATEGORIES:Community Calendar - Have an event happening? Email us at newstips@kiwaradio.com!
END:VEVENT
BEGIN:VEVENT
DTSTART;VALUE=DATE:20240624
DTEND;VALUE=DATE:20240628
DTSTAMP:20260422T002222
CREATED:20240418T155406Z
LAST-MODIFIED:20240418T155642Z
UID:10008070-1719187200-1719532799@kiwaradio.com
SUMMARY:Northwestern College Theater Camp
DESCRIPTION:Northwestern College will host a summer theatre camp for high school students Monday through Thursday\, June 24–27. \nOpen to students in grades 9 through 12\, the camp will be led by the college’s award-winning theatre professors\, who are experienced actors\, directors\, playwrights and technicians. Northwestern theatre students will also participate and serve as mentors. A camp fee of $250 covers the instruction\, room and board\, and access to campus facilities—including the theatres\, scene and costume shops\, and makeup and dressing rooms of the DeWitt Theatre Arts Center. \nThe campers will begin each day with theatre warmups and exercises\, followed by workshops on theatre skills such as acting\, stage movement and costume design. The afternoon will provide time for improvisation and scene work. The days will close with evening activities and community time in the residence halls. Participants will stay in Northwestern’s residence halls and eat in its cafeteria. \n“Theatre camp offers a fantastic opportunity for high school students to learn more about theatre from Northwestern faculty and staff\,” says Dr. Robert Hubbard\, theatre department chair. “We’ve also found that the friendships made during the week continue through the years.” \nFor more information or to register\, visit nwciowa.edu/theatre-camp or contact the theatre department at 712-707-7341. The registration deadline is Friday\, May 3.
URL:https://kiwaradio.com/event/northwestern-college-theater-camp/
CATEGORIES:Community Calendar - Have an event happening? Email us at newstips@kiwaradio.com!
END:VEVENT
BEGIN:VEVENT
DTSTART;VALUE=DATE:20240624
DTEND;VALUE=DATE:20240706
DTSTAMP:20260422T002222
CREATED:20240618T205126Z
LAST-MODIFIED:20240618T205126Z
UID:10008170-1719187200-1720223999@kiwaradio.com
SUMMARY:Art show by Jerry Mennega and Kaarina Van Berkum in Orange City
DESCRIPTION:Visual artists Jerry Mennenga and Kaarina Van Berkum will be showcasing art work inside Stradscentrum from June 24 to July 5. For more information\, visit www.orangcityarts.org
URL:https://kiwaradio.com/event/art-show-by-jerry-mennega-and-kaarina-van-berkum-in-orange-city/
CATEGORIES:Community Calendar - Have an event happening? Email us at newstips@kiwaradio.com!
END:VEVENT
BEGIN:VEVENT
DTSTART;TZID=America/Chicago:20240625T081500
DTEND;TZID=America/Chicago:20240625T084500
DTSTAMP:20260422T002222
CREATED:20240522T134117Z
LAST-MODIFIED:20240522T134117Z
UID:10008137-1719303300-1719305100@kiwaradio.com
SUMMARY:Atlas of Lyon County Breakfast
DESCRIPTION:Atlas of Lyon County is working with area donors and volunteers to provide a healthy breakfast meal for students in grades K-8 at the Atlas Ministry Center. \nMeals will be served Tuesdays & Thursdays\, from 8:15-8:45\, starting June 4. \nTo learn more about this program\, go to https://atlasoflyoncounty.org/ministries/summer-breakfast-program/ or call 712-472-9016
URL:https://kiwaradio.com/event/atlas-of-lyon-county-breakfast-7/
CATEGORIES:Community Calendar - Have an event happening? Email us at newstips@kiwaradio.com!
END:VEVENT
BEGIN:VEVENT
DTSTART;TZID=America/Chicago:20240625T140000
DTEND;TZID=America/Chicago:20240625T170000
DTSTAMP:20260422T002222
CREATED:20240507T170426Z
LAST-MODIFIED:20240507T170426Z
UID:10008113-1719324000-1719334800@kiwaradio.com
SUMMARY:Sibley Public Library Fourth Tuesday Book Group
DESCRIPTION:
URL:https://kiwaradio.com/event/sibley-public-library-fourth-tuesday-book-group/
CATEGORIES:Community Calendar - Have an event happening? Email us at newstips@kiwaradio.com!
END:VEVENT
END:VCALENDAR