BEGIN:VCALENDAR
VERSION:2.0
PRODID:-//KIWA Radio - ECPv6.15.20//NONSGML v1.0//EN
CALSCALE:GREGORIAN
METHOD:PUBLISH
X-ORIGINAL-URL:https://kiwaradio.com
X-WR-CALDESC:Events for KIWA Radio
REFRESH-INTERVAL;VALUE=DURATION:PT1H
X-Robots-Tag:noindex
X-PUBLISHED-TTL:PT1H
BEGIN:VTIMEZONE
TZID:America/Chicago
BEGIN:DAYLIGHT
TZOFFSETFROM:-0600
TZOFFSETTO:-0500
TZNAME:CDT
DTSTART:20240310T080000
END:DAYLIGHT
BEGIN:STANDARD
TZOFFSETFROM:-0500
TZOFFSETTO:-0600
TZNAME:CST
DTSTART:20241103T070000
END:STANDARD
BEGIN:DAYLIGHT
TZOFFSETFROM:-0600
TZOFFSETTO:-0500
TZNAME:CDT
DTSTART:20250309T080000
END:DAYLIGHT
BEGIN:STANDARD
TZOFFSETFROM:-0500
TZOFFSETTO:-0600
TZNAME:CST
DTSTART:20251102T070000
END:STANDARD
BEGIN:DAYLIGHT
TZOFFSETFROM:-0600
TZOFFSETTO:-0500
TZNAME:CDT
DTSTART:20260308T080000
END:DAYLIGHT
BEGIN:STANDARD
TZOFFSETFROM:-0500
TZOFFSETTO:-0600
TZNAME:CST
DTSTART:20261101T070000
END:STANDARD
END:VTIMEZONE
BEGIN:VEVENT
DTSTART;VALUE=DATE:20250328
DTEND;VALUE=DATE:20250601
DTSTAMP:20260424T003419
CREATED:20250328T160132Z
LAST-MODIFIED:20250328T160132Z
UID:10008667-1743120000-1748735999@kiwaradio.com
SUMMARY:Tallgrass Prairie Exhibit at Prairie Woods Nature Center
DESCRIPTION:The Sioux County Conservation Foundation is hosting a traveling exhibit at the Prairie Woods Nature Center now through the end of May. \nThe exhibit is on the Tallgrass Prairie and is located in the Meeting Room on the main floor of the Nature Center. This exhibit is interactive for all ages. \nMeasure your height against plants and roots\, identify some common plants and learn their medicinal uses\, learn about the history of the bison and the suppression of the Plains Indians\, the role of fire in prairie management\, and more!
URL:https://kiwaradio.com/event/tallgrass-prairie-exhibit-at-prairie-woods-nature-center/
CATEGORIES:Community Calendar - Have an event happening? Email us at newstips@kiwaradio.com!
END:VEVENT
BEGIN:VEVENT
DTSTART;VALUE=DATE:20250502
DTEND;VALUE=DATE:20250505
DTSTAMP:20260424T003419
CREATED:20250415T135826Z
LAST-MODIFIED:20250415T135826Z
UID:10008680-1746144000-1746403199@kiwaradio.com
SUMMARY:Cherokee Ride Runners Spring Rendezvous
DESCRIPTION:The Cherokee Ride Runners Spring Rendezvous will be May 2nd\, May 3rd\, May 4th with a school day on Friday\, May 2nd from 9:00 a.m. to 3:00 p.m at the Licklider Shooting Complex on Little Sioux Road in Cherokee. \nThe event includes all re-enactions from 1740 and the 1880’s. Come and enjoy living history! \nThis event is free to attend. There will also be a potluck meal Saturday Night along with a fundraising auction the same night. \nOther events include Hawk and Knife throw\, various shooting events (you will be in charge of posting and pulling your own targets on the range)\, the Outlaw Hawk Throw (must have a handle and can be thrown with one hand and there are no explosives allowed) \nFor campers\, there is limitied water and you will be in charge of hauling out your own trash. Primitive camp fee is $15 with a range fee of $15. \nFor more information contact \nPresident – Ryan Weaver 712-261-3232 \nVice President – Drew Edmann 712-229-0118 (after 5:00 p.m.) \nTreasurer – Michelle Weaver 712-229-6991 \nSecretary – Marti Rose 712-310-9325
URL:https://kiwaradio.com/event/cherokee-ride-runners-spring-rendezvous/
CATEGORIES:Community Calendar - Have an event happening? Email us at newstips@kiwaradio.com!
END:VEVENT
BEGIN:VEVENT
DTSTART;TZID=America/Chicago:20250504T083000
DTEND;TZID=America/Chicago:20250504T123000
DTSTAMP:20260424T003419
CREATED:20250417T205512Z
LAST-MODIFIED:20250417T205512Z
UID:10008684-1746347400-1746361800@kiwaradio.com
SUMMARY:May City Volunteer Fire Department Pancake Fundraiser
DESCRIPTION:The May City Fire Department will be having their Pancake Fundraiser Sunday\, May 4th\, from 8:30 a.m. to 12:30 p.m. at the May City Fire Hall. \nA free will donation will be taken with dine-in and carry-out options both available. The May City Fire Department will be serving your favorites from pancakes\, french toast\, scrambled eggs and sausage. \nThe May City Fire Department thanks you in advance for your support.
URL:https://kiwaradio.com/event/may-city-volunteer-fire-department-pancake-fundraiser-2/
CATEGORIES:Community Calendar - Have an event happening? Email us at newstips@kiwaradio.com!
ATTACH;FMTTYPE=image/jpeg:https://kiwaradio.com/wp-content/uploads/2025/04/52f9b988-4b97-42ea-bcfc-32ce5546cf3e.jpg
END:VEVENT
END:VCALENDAR