BEGIN:VCALENDAR
VERSION:2.0
PRODID:-//KIWA Radio - ECPv6.15.20//NONSGML v1.0//EN
CALSCALE:GREGORIAN
METHOD:PUBLISH
X-WR-CALNAME:KIWA Radio
X-ORIGINAL-URL:https://kiwaradio.com
X-WR-CALDESC:Events for KIWA Radio
REFRESH-INTERVAL;VALUE=DURATION:PT1H
X-Robots-Tag:noindex
X-PUBLISHED-TTL:PT1H
BEGIN:VTIMEZONE
TZID:America/Chicago
BEGIN:DAYLIGHT
TZOFFSETFROM:-0600
TZOFFSETTO:-0500
TZNAME:CDT
DTSTART:20240310T080000
END:DAYLIGHT
BEGIN:STANDARD
TZOFFSETFROM:-0500
TZOFFSETTO:-0600
TZNAME:CST
DTSTART:20241103T070000
END:STANDARD
BEGIN:DAYLIGHT
TZOFFSETFROM:-0600
TZOFFSETTO:-0500
TZNAME:CDT
DTSTART:20250309T080000
END:DAYLIGHT
BEGIN:STANDARD
TZOFFSETFROM:-0500
TZOFFSETTO:-0600
TZNAME:CST
DTSTART:20251102T070000
END:STANDARD
BEGIN:DAYLIGHT
TZOFFSETFROM:-0600
TZOFFSETTO:-0500
TZNAME:CDT
DTSTART:20260308T080000
END:DAYLIGHT
BEGIN:STANDARD
TZOFFSETFROM:-0500
TZOFFSETTO:-0600
TZNAME:CST
DTSTART:20261101T070000
END:STANDARD
END:VTIMEZONE
BEGIN:VEVENT
DTSTART;VALUE=DATE:20250328
DTEND;VALUE=DATE:20250601
DTSTAMP:20260422T035937
CREATED:20250328T160132Z
LAST-MODIFIED:20250328T160132Z
UID:10008667-1743120000-1748735999@kiwaradio.com
SUMMARY:Tallgrass Prairie Exhibit at Prairie Woods Nature Center
DESCRIPTION:The Sioux County Conservation Foundation is hosting a traveling exhibit at the Prairie Woods Nature Center now through the end of May. \nThe exhibit is on the Tallgrass Prairie and is located in the Meeting Room on the main floor of the Nature Center. This exhibit is interactive for all ages. \nMeasure your height against plants and roots\, identify some common plants and learn their medicinal uses\, learn about the history of the bison and the suppression of the Plains Indians\, the role of fire in prairie management\, and more!
URL:https://kiwaradio.com/event/tallgrass-prairie-exhibit-at-prairie-woods-nature-center/
CATEGORIES:Community Calendar - Have an event happening? Email us at newstips@kiwaradio.com!
END:VEVENT
BEGIN:VEVENT
DTSTART;VALUE=DATE:20250507
DTEND;VALUE=DATE:20250511
DTSTAMP:20260422T035937
CREATED:20250507T144108Z
LAST-MODIFIED:20250507T144108Z
UID:10008720-1746576000-1746921599@kiwaradio.com
SUMMARY:Make An Offer Moving Sale
DESCRIPTION:There is a Make An Offer Moving Sale at 3560 Mckinley Ave. in Sheldon running from today to Saturday\, May 10th. \nThis sale has a little bit of everything\, including pieces of furniture. For more information\, please call 712-324-2994
URL:https://kiwaradio.com/event/make-an-offer-moving-sale/
CATEGORIES:Community Calendar - Have an event happening? Email us at newstips@kiwaradio.com!
END:VEVENT
BEGIN:VEVENT
DTSTART;TZID=America/Chicago:20250507T093000
DTEND;TZID=America/Chicago:20250507T110000
DTSTAMP:20260422T035937
CREATED:20240919T205135Z
LAST-MODIFIED:20240926T171820Z
UID:10008350-1746610200-1746615600@kiwaradio.com
SUMMARY:Mom to Mom Bible Study at Faith Community Church
DESCRIPTION:Women who are mothers\, please come join the “Mom to Mom” Bible study that happens every first and third Wednesday each month between October and May. The Bible study is at Faith Community Church in Sheldon and runs from 9:30 a.m. to 11:00 a.m. and free childcare is provided.
URL:https://kiwaradio.com/event/mom-to-mom-bible-studay-at-faith-community-church-3/
CATEGORIES:Community Calendar - Have an event happening? Email us at newstips@kiwaradio.com!
END:VEVENT
BEGIN:VEVENT
DTSTART;TZID=America/Chicago:20250507T100000
DTEND;TZID=America/Chicago:20250507T140000
DTSTAMP:20260422T035937
CREATED:20250423T202917Z
LAST-MODIFIED:20250423T202917Z
UID:10008702-1746612000-1746626400@kiwaradio.com
SUMMARY:Wild Child Nature Series at Prairie Woods Nature Center
DESCRIPTION:Wednesday\, May 7th\, it is the Wild Child Nature Series at the Prairie Woods Nature Center. \nAttention animal and nature lovers ages 2- to 5-years-old. The Wild Child Nature Series is a one-hour nature-based experience that will get your child exploring\, moving\, playing and using their senses. An adult is required to join the child\, or children. There is no fee\, but pre-registration is required. \nThere are two events that start at 10:00 a.m. and at 1:00 p.m.
URL:https://kiwaradio.com/event/wild-child-nature-series-at-prairie-woods-nature-center-2/
CATEGORIES:Community Calendar - Have an event happening? Email us at newstips@kiwaradio.com!
END:VEVENT
BEGIN:VEVENT
DTSTART;TZID=America/Chicago:20250507T103000
DTEND;TZID=America/Chicago:20250507T220000
DTSTAMP:20260422T035937
CREATED:20250425T192357Z
LAST-MODIFIED:20250425T192357Z
UID:10008709-1746613800-1746655200@kiwaradio.com
SUMMARY:Teacher Appreciation Day at Taco John's
DESCRIPTION:Teacher’s Eat Free at Taco John’s for Teacher Appreciation Day Wednesday\, May 7th. \nThe free meal works for a small #1 beef combo\, or a small #2 beef combo with a valid ID at the Sheldon Taco John’s\, starting after 10:30 a.m. Wednesday\, May 7th.
URL:https://kiwaradio.com/event/teacher-appreciation-day-at-taco-johns/
CATEGORIES:Community Calendar - Have an event happening? Email us at newstips@kiwaradio.com!
ATTACH;FMTTYPE=image/png:https://kiwaradio.com/wp-content/uploads/2025/04/download-1.png
END:VEVENT
END:VCALENDAR