BEGIN:VCALENDAR
VERSION:2.0
PRODID:-//KIWA Radio - ECPv6.15.20//NONSGML v1.0//EN
CALSCALE:GREGORIAN
METHOD:PUBLISH
X-WR-CALNAME:KIWA Radio
X-ORIGINAL-URL:https://kiwaradio.com
X-WR-CALDESC:Events for KIWA Radio
REFRESH-INTERVAL;VALUE=DURATION:PT1H
X-Robots-Tag:noindex
X-PUBLISHED-TTL:PT1H
BEGIN:VTIMEZONE
TZID:America/Chicago
BEGIN:DAYLIGHT
TZOFFSETFROM:-0600
TZOFFSETTO:-0500
TZNAME:CDT
DTSTART:20250309T080000
END:DAYLIGHT
BEGIN:STANDARD
TZOFFSETFROM:-0500
TZOFFSETTO:-0600
TZNAME:CST
DTSTART:20251102T070000
END:STANDARD
BEGIN:DAYLIGHT
TZOFFSETFROM:-0600
TZOFFSETTO:-0500
TZNAME:CDT
DTSTART:20260308T080000
END:DAYLIGHT
BEGIN:STANDARD
TZOFFSETFROM:-0500
TZOFFSETTO:-0600
TZNAME:CST
DTSTART:20261101T070000
END:STANDARD
BEGIN:DAYLIGHT
TZOFFSETFROM:-0600
TZOFFSETTO:-0500
TZNAME:CDT
DTSTART:20270314T080000
END:DAYLIGHT
BEGIN:STANDARD
TZOFFSETFROM:-0500
TZOFFSETTO:-0600
TZNAME:CST
DTSTART:20271107T070000
END:STANDARD
END:VTIMEZONE
BEGIN:VEVENT
DTSTART;TZID=America/Chicago:20260331T103000
DTEND;TZID=America/Chicago:20260331T233000
DTSTAMP:20260422T040011
CREATED:20260220T220808Z
LAST-MODIFIED:20260220T220808Z
UID:10009396-1774953000-1774999800@kiwaradio.com
SUMMARY:Little Explorers at the Sheldon Public Library
DESCRIPTION:Tuesdays at 10:30 a.m.\, it’s Little Explorers at the Sheldon Public Library. \nCaregivers can bring children to play with a variety of toys. For ages 0–5.
URL:https://kiwaradio.com/event/little-explorers-at-the-sheldon-public-library-12/2026-03-31/
ATTACH;FMTTYPE=image/jpeg:https://kiwaradio.com/wp-content/uploads/2026/02/Little-Explorers.jpg
END:VEVENT
BEGIN:VEVENT
DTSTART;TZID=America/Chicago:20260331T120000
DTEND;TZID=America/Chicago:20260331T180000
DTSTAMP:20260422T040011
CREATED:20260306T150006Z
LAST-MODIFIED:20260306T150006Z
UID:10009410-1774958400-1774980000@kiwaradio.com
SUMMARY:Sheldon Area Blood Drive at First Christian Reformed Church
DESCRIPTION:The American Red Cross will hold a Sheldon Area Blood Drive on Tuesday\, March 31 from noon to 6:00 p.m. at the First Christian Reformed Church Fellowship Hall. \nDonors can schedule an appointment by calling 1‑800‑RED‑CROSS or by visiting RedCrossBlood.org and entering “SheldonIA.” \nThose who give between March 30 and April 12 will receive an exclusive Red Cross x Life is Good T‑shirt while supplies last.
URL:https://kiwaradio.com/event/sheldon-area-blood-drive-at-first-christian-reformed-church/
ATTACH;FMTTYPE=image/jpeg:https://kiwaradio.com/wp-content/uploads/2026/03/Blood-drive-scaled.jpg
END:VEVENT
END:VCALENDAR