BEGIN:VCALENDAR
VERSION:2.0
PRODID:-//KIWA Radio - ECPv6.15.20//NONSGML v1.0//EN
CALSCALE:GREGORIAN
METHOD:PUBLISH
X-ORIGINAL-URL:https://kiwaradio.com
X-WR-CALDESC:Events for KIWA Radio
REFRESH-INTERVAL;VALUE=DURATION:PT1H
X-Robots-Tag:noindex
X-PUBLISHED-TTL:PT1H
BEGIN:VTIMEZONE
TZID:America/Chicago
BEGIN:DAYLIGHT
TZOFFSETFROM:-0600
TZOFFSETTO:-0500
TZNAME:CDT
DTSTART:20180311T080000
END:DAYLIGHT
BEGIN:STANDARD
TZOFFSETFROM:-0500
TZOFFSETTO:-0600
TZNAME:CST
DTSTART:20181104T070000
END:STANDARD
BEGIN:DAYLIGHT
TZOFFSETFROM:-0600
TZOFFSETTO:-0500
TZNAME:CDT
DTSTART:20190310T080000
END:DAYLIGHT
BEGIN:STANDARD
TZOFFSETFROM:-0500
TZOFFSETTO:-0600
TZNAME:CST
DTSTART:20191103T070000
END:STANDARD
BEGIN:DAYLIGHT
TZOFFSETFROM:-0600
TZOFFSETTO:-0500
TZNAME:CDT
DTSTART:20200308T080000
END:DAYLIGHT
BEGIN:STANDARD
TZOFFSETFROM:-0500
TZOFFSETTO:-0600
TZNAME:CST
DTSTART:20201101T070000
END:STANDARD
END:VTIMEZONE
BEGIN:VEVENT
DTSTART;TZID=America/Chicago:20190511T073000
DTEND;TZID=America/Chicago:20190511T170000
DTSTAMP:20260423T130254
CREATED:20190506T205655Z
LAST-MODIFIED:20190506T205655Z
UID:10000258-1557559800-1557594000@kiwaradio.com
SUMMARY:Wings and Wetlands Festival
DESCRIPTION:O’Brien County Conservation is planning a great line-up of events to celebrate the annual multi-county Wings and Wetlands Festival.  Each year several northwest Iowa counties cooperate to celebrate the return of spring to Northwest Iowa.  All of the events in O’Brien County will take place on Saturday\, May 11 this year. \nBegin your day at 7:30 am with a light breakfast at the Prairie Heritage Center.  Then\, hit the trail in search of migrating songbirds.  On a short walk to the river\, over 30 different species can usually be counted.  The group will then carpool to Wanata Park in Peterson to add some woodland birds to their list. \nAt 11:00 am\, come to the Prairie Heritage Center to take part in a “Cat Tail Weave.”  This event is next session in the “Nature’s Art” activities.  Participants will make a mat to take home as they learn about birds and other animals in the wetlands. \nAt 1:00 pm\, take part in the “I’m Lichen It” program to investigate the colorful growth partners of algae and fungus found on rocks\, trees\, fence posts\, buildings and more. \nFinally at 4:30 pm\, meet at the beach parking lot at Dog Creek Park for a “Cloud Picnic.”  Visit Iowa Tourism’s chosen location for the “99 Parks in 99 Counties Promotion.”  Bring a light snack or an early evening meal to enjoy as you kick back to survey cloud formations in the sky. \nJoin in one or all of these events in O’Brien County.  Need to know more?  Contact the O’Brien County Conservation Board at 712-295-7200.  For more information about activities in other counties contact the Conservation Boards in Clay and Palo Alto counties!
URL:https://kiwaradio.com/event/wings-and-wetlands-festival-3/
CATEGORIES:Community Calendar - Have an event happening? Email us at newstips@kiwaradio.com!
ATTACH;FMTTYPE=:
END:VEVENT
BEGIN:VEVENT
DTSTART;TZID=America/Chicago:20190511T083000
DTEND;TZID=America/Chicago:20190511T123000
DTSTAMP:20260423T130254
CREATED:20190506T203328Z
LAST-MODIFIED:20190506T203328Z
UID:10000255-1557563400-1557577800@kiwaradio.com
SUMMARY:Free WALK for Mental Health Awareness
DESCRIPTION:On Saturday\, May 11th\, Maurice Reformed Church and Seasons Center are hosting the WALK for Mental Health Awareness in recognition of Mental Health Awareness Month. This is a free\, family-friendly event to recognize the importance of mental health and to share resources on where to seek help. \n“Events like this help promote awareness and reduce the stigma around mental illness\,” said Pastor Ross Hoekstra of Maurice Reformed Church. “The goal is that we would be able to talk openly about mental illness and give individuals the strength and courage to seek treatment at organizations\, like Season Center\, for their mental health needs.” \nRegister online by visiting https://bit.ly/2OiMtm3. The WALK begins with registration from 8:30 – 9:00 am at Central Park in Sioux Center. A free kids’ carnival and snacks will follow the event until 12:00 pm. \nThe proceeds of the WALK for Mental Health Awareness will benefit Camp Autumn by providing scholarships for children to attend this unique therapeutic camp.
URL:https://kiwaradio.com/event/free-walk-for-mental-health-awareness/
CATEGORIES:Community Calendar - Have an event happening? Email us at newstips@kiwaradio.com!
ATTACH;FMTTYPE=:
END:VEVENT
BEGIN:VEVENT
DTSTART;TZID=America/Chicago:20190511T100000
DTEND;TZID=America/Chicago:20190511T110000
DTSTAMP:20260423T130254
CREATED:20190507T135203Z
LAST-MODIFIED:20190507T135203Z
UID:10000259-1557568800-1557572400@kiwaradio.com
SUMMARY:Story Hour at Ashton Public Library
DESCRIPTION:There will be a Story Hour held at the Ashton Public Library on Saturday\, May 11th and Saturday\, May 25th\, beginning at 10:00 am.  Children should be accompanied by a responsible adult. For more information\, contact the Ashton Public Library at 712-461-1145.
URL:https://kiwaradio.com/event/story-hour-at-ashton-public-library-2/
CATEGORIES:Community Calendar - Have an event happening? Email us at newstips@kiwaradio.com!
ATTACH;FMTTYPE=:
END:VEVENT
END:VCALENDAR