BEGIN:VCALENDAR
VERSION:2.0
PRODID:-//KIWA Radio - ECPv6.15.20//NONSGML v1.0//EN
CALSCALE:GREGORIAN
METHOD:PUBLISH
X-ORIGINAL-URL:https://kiwaradio.com
X-WR-CALDESC:Events for KIWA Radio
REFRESH-INTERVAL;VALUE=DURATION:PT1H
X-Robots-Tag:noindex
X-PUBLISHED-TTL:PT1H
BEGIN:VTIMEZONE
TZID:America/Chicago
BEGIN:DAYLIGHT
TZOFFSETFROM:-0600
TZOFFSETTO:-0500
TZNAME:CDT
DTSTART:20180311T080000
END:DAYLIGHT
BEGIN:STANDARD
TZOFFSETFROM:-0500
TZOFFSETTO:-0600
TZNAME:CST
DTSTART:20181104T070000
END:STANDARD
BEGIN:DAYLIGHT
TZOFFSETFROM:-0600
TZOFFSETTO:-0500
TZNAME:CDT
DTSTART:20190310T080000
END:DAYLIGHT
BEGIN:STANDARD
TZOFFSETFROM:-0500
TZOFFSETTO:-0600
TZNAME:CST
DTSTART:20191103T070000
END:STANDARD
BEGIN:DAYLIGHT
TZOFFSETFROM:-0600
TZOFFSETTO:-0500
TZNAME:CDT
DTSTART:20200308T080000
END:DAYLIGHT
BEGIN:STANDARD
TZOFFSETFROM:-0500
TZOFFSETTO:-0600
TZNAME:CST
DTSTART:20201101T070000
END:STANDARD
END:VTIMEZONE
BEGIN:VEVENT
DTSTART;TZID=America/Chicago:20190522T100000
DTEND;TZID=America/Chicago:20190522T100000
DTSTAMP:20260424T002710
CREATED:20190517T170718Z
LAST-MODIFIED:20190517T170718Z
UID:10000268-1558519200-1558519200@kiwaradio.com
SUMMARY:Farm Credit Services of America Delayed Planting Crop Insurance Meeting
DESCRIPTION:Farm Credit Services of America is hosting two meetings to answer questions about how planting delays impact your crop insurance. There are important decisions to be made for the 2019 growing season and understanding your crop insurance benefits can help you make the right choices for your operation. \nIn addition to taking your questions\, the following topics will be addressed: \n*What you need to know about planting delays and your crop insurance \n*Factors to consider as you weigh delayed planting\, replanting\, prevent planting and first and second crops \n*Final and late planting dates \n*What to do in the event of a loss \nMultiple agents will be available for one-on-one conversations. Our FCSAmerica team will be joined by a claims supervisor at each meeting to help answer any additional claims question. \nPlease choose from the following times and locations: \nWednesday\, May 22nd \n10:00 AM – Crossroads Pavilion – Sheldon \n301 34th Avenue \nRSVP to 712-324-5371 \n\nThursday\, May 30th \n1:00 PM – Clay County Fairgrounds – Spencer \n700 W 18th Street \nRSVP to 712-324-5371
URL:https://kiwaradio.com/event/farm-credit-services-of-america-delayed-planting-crop-insurance-meeting-2/
CATEGORIES:Community Calendar - Have an event happening? Email us at newstips@kiwaradio.com!
ATTACH;FMTTYPE=:
END:VEVENT
BEGIN:VEVENT
DTSTART;TZID=America/Chicago:20190522T100000
DTEND;TZID=America/Chicago:20190522T170000
DTSTAMP:20260424T002710
CREATED:20190515T154322Z
LAST-MODIFIED:20190515T154322Z
UID:10000266-1558519200-1558544400@kiwaradio.com
SUMMARY:Community Blood Bank Blood Drive in Sibley
DESCRIPTION:Osceola Community Hospital will host a community blood drives on Wednesday\, May 22 from 10:00 am to 1:00 pm and 2:30 pm to 5:00 pm at Osceola Community Hospital. All blood donations will stay local to help save the lives of area patients in need.           \nPlease call the Osceola Community Hospital Laboratory to make an appointment at 712-754-5358. All donors must be at least 16 year’s old\, weigh at least 110 pounds and be in good health. You can donate blood every 56 days. \nThe Community Blood Bank is the sole supplier of all blood and blood products for Osceola Community Hospital. \nNo hospitals in our area\, including Osceola Community Hospital receive any blood or blood products from the American Red Cross. \n 
URL:https://kiwaradio.com/event/community-blood-bank-blood-drive-in-sibley-10/
CATEGORIES:Community Calendar - Have an event happening? Email us at newstips@kiwaradio.com!
ATTACH;FMTTYPE=:
END:VEVENT
END:VCALENDAR