BEGIN:VCALENDAR
VERSION:2.0
PRODID:-//KIWA Radio - ECPv6.15.20//NONSGML v1.0//EN
CALSCALE:GREGORIAN
METHOD:PUBLISH
X-ORIGINAL-URL:https://kiwaradio.com
X-WR-CALDESC:Events for KIWA Radio
REFRESH-INTERVAL;VALUE=DURATION:PT1H
X-Robots-Tag:noindex
X-PUBLISHED-TTL:PT1H
BEGIN:VTIMEZONE
TZID:America/Chicago
BEGIN:DAYLIGHT
TZOFFSETFROM:-0600
TZOFFSETTO:-0500
TZNAME:CDT
DTSTART:20200308T080000
END:DAYLIGHT
BEGIN:STANDARD
TZOFFSETFROM:-0500
TZOFFSETTO:-0600
TZNAME:CST
DTSTART:20201101T070000
END:STANDARD
BEGIN:DAYLIGHT
TZOFFSETFROM:-0600
TZOFFSETTO:-0500
TZNAME:CDT
DTSTART:20210314T080000
END:DAYLIGHT
BEGIN:STANDARD
TZOFFSETFROM:-0500
TZOFFSETTO:-0600
TZNAME:CST
DTSTART:20211107T070000
END:STANDARD
BEGIN:DAYLIGHT
TZOFFSETFROM:-0600
TZOFFSETTO:-0500
TZNAME:CDT
DTSTART:20220313T080000
END:DAYLIGHT
BEGIN:STANDARD
TZOFFSETFROM:-0500
TZOFFSETTO:-0600
TZNAME:CST
DTSTART:20221106T070000
END:STANDARD
END:VTIMEZONE
BEGIN:VEVENT
DTSTART;TZID=America/Chicago:20211029T160000
DTEND;TZID=America/Chicago:20211029T180000
DTSTAMP:20260421T044437
CREATED:20211012T135650Z
LAST-MODIFIED:20211012T135650Z
UID:10001160-1635523200-1635530400@kiwaradio.com
SUMMARY:St. Patrick's School's Halloween Tunnel
DESCRIPTION:Haunted Tunnel – Friday\, October 29\, 4:00 – 6:00 at St. Patrick’s School \nCome visit St. Patrick’s School’s family-friendly “haunted house”! Created by our 7th and 8th graders\, it’s sure to be spooky fun for all the young ghosts. \nThis is a free event\, and we are collecting free-will non-perishable food donations.
URL:https://kiwaradio.com/event/st-patricks-schools-halloween-tunnel/
CATEGORIES:Community Calendar - Have an event happening? Email us at newstips@kiwaradio.com!
ATTACH;FMTTYPE=image/jpeg:https://kiwaradio.com/wp-content/uploads/Halloween-Tunnel.jpg
END:VEVENT
BEGIN:VEVENT
DTSTART;TZID=America/Chicago:20211029T160000
DTEND;TZID=America/Chicago:20211029T190000
DTSTAMP:20260421T044437
CREATED:20210909T154930Z
LAST-MODIFIED:20210909T154930Z
UID:10001110-1635523200-1635534000@kiwaradio.com
SUMMARY:Sheldon Trick-Or-Treating
DESCRIPTION:Downtown 4:00-5:30 PM \nCity-Wide 5:00-7:00 PM
URL:https://kiwaradio.com/event/sheldon-trick-or-treating-5/
CATEGORIES:Community Calendar - Have an event happening? Email us at newstips@kiwaradio.com!
ATTACH;FMTTYPE=image/png:https://kiwaradio.com/wp-content/uploads/Trick-or-Treat.png
END:VEVENT
BEGIN:VEVENT
DTSTART;TZID=America/Chicago:20211029T193000
DTEND;TZID=America/Chicago:20211029T223000
DTSTAMP:20260421T044437
CREATED:20211007T154158Z
LAST-MODIFIED:20211007T154158Z
UID:10001157-1635535800-1635546600@kiwaradio.com
SUMMARY:Scaritage Park - Primghar
DESCRIPTION:SCARITAGE PARK IS BACK!\n\n\nTickets will be sold at the Primghar Golf Course\n$10 per person\n$8 with a donation of 2 canned goods\n\n\nOctober 22\, 23 & 29 from 7:30 p.m.-10:30 p.m.
URL:https://kiwaradio.com/event/scaritage-park-primghar-2/
CATEGORIES:Community Calendar - Have an event happening? Email us at newstips@kiwaradio.com!
ATTACH;FMTTYPE=image/jpeg:https://kiwaradio.com/wp-content/uploads/facebook_1633544785817_6851583429334756047.jpg
END:VEVENT
END:VCALENDAR