BEGIN:VCALENDAR
VERSION:2.0
PRODID:-//KIWA Radio - ECPv6.15.20//NONSGML v1.0//EN
CALSCALE:GREGORIAN
METHOD:PUBLISH
X-ORIGINAL-URL:https://kiwaradio.com
X-WR-CALDESC:Events for KIWA Radio
REFRESH-INTERVAL;VALUE=DURATION:PT1H
X-Robots-Tag:noindex
X-PUBLISHED-TTL:PT1H
BEGIN:VTIMEZONE
TZID:America/Chicago
BEGIN:DAYLIGHT
TZOFFSETFROM:-0600
TZOFFSETTO:-0500
TZNAME:CDT
DTSTART:20230312T080000
END:DAYLIGHT
BEGIN:STANDARD
TZOFFSETFROM:-0500
TZOFFSETTO:-0600
TZNAME:CST
DTSTART:20231105T070000
END:STANDARD
BEGIN:DAYLIGHT
TZOFFSETFROM:-0600
TZOFFSETTO:-0500
TZNAME:CDT
DTSTART:20240310T080000
END:DAYLIGHT
BEGIN:STANDARD
TZOFFSETFROM:-0500
TZOFFSETTO:-0600
TZNAME:CST
DTSTART:20241103T070000
END:STANDARD
BEGIN:DAYLIGHT
TZOFFSETFROM:-0600
TZOFFSETTO:-0500
TZNAME:CDT
DTSTART:20250309T080000
END:DAYLIGHT
BEGIN:STANDARD
TZOFFSETFROM:-0500
TZOFFSETTO:-0600
TZNAME:CST
DTSTART:20251102T070000
END:STANDARD
END:VTIMEZONE
BEGIN:VEVENT
DTSTART;VALUE=DATE:20240528
DTEND;VALUE=DATE:20240721
DTSTAMP:20260421T225423
CREATED:20240423T134330Z
LAST-MODIFIED:20240423T134330Z
UID:10008086-1716854400-1721519999@kiwaradio.com
SUMMARY:Sheldon Public Library Summer Program
DESCRIPTION:Summer Library Program at the Sheldon Public Library: Read\, Renew\, Repeat \nMay 28 – July 20 \n 
URL:https://kiwaradio.com/event/sheldon-public-library-summer-program/
END:VEVENT
BEGIN:VEVENT
DTSTART;TZID=America/Chicago:20240601T103000
DTEND;TZID=America/Chicago:20240601T133000
DTSTAMP:20260421T225423
CREATED:20240222T140341Z
LAST-MODIFIED:20251121T142639Z
UID:10007616-1717237800-1717248600@kiwaradio.com
SUMMARY:Lego Saturdays at Sheldon Public Library
DESCRIPTION:Lego Saturdays – Saturdays\, 10:30 – 1:30 \nDrop in and build with Legos. All ages – children under 8 must be with a caregiver
URL:https://kiwaradio.com/event/lego-saturdays-at-sheldon-public-library-6/2024-06-01/
CATEGORIES:Community Calendar - Have an event happening? Email us at newstips@kiwaradio.com!
ATTACH;FMTTYPE=image/jpeg:https://kiwaradio.com/wp-content/uploads/2024/02/Lego-Saturdays-25-26.jpg
END:VEVENT
BEGIN:VEVENT
DTSTART;VALUE=DATE:20240603
DTEND;VALUE=DATE:20240608
DTSTAMP:20260421T225423
CREATED:20240603T195730Z
LAST-MODIFIED:20240603T195730Z
UID:10008146-1717372800-1717804799@kiwaradio.com
SUMMARY:City of Sheldon wants all residents to discconect their sump pumps
DESCRIPTION:The City of Sheldon urges all residents to disconnect their sump pumps and roof drains from the sanitary sewer system. For more information log onto www.sheldoniowa.gov
URL:https://kiwaradio.com/event/city-of-sheldon-wants-all-residents-to-discconect-their-sump-pumps/
CATEGORIES:Community Calendar - Have an event happening? Email us at newstips@kiwaradio.com!
END:VEVENT
BEGIN:VEVENT
DTSTART;TZID=America/Chicago:20240603T113000
DTEND;TZID=America/Chicago:20240603T133000
DTSTAMP:20260421T225423
CREATED:20240523T170915Z
LAST-MODIFIED:20240523T170915Z
UID:10008139-1717414200-1717421400@kiwaradio.com
SUMMARY:Bethel Kids Lemonade Stand
DESCRIPTION:Every Monday in June from 11:30 a.m. to 1:30 p.m. the Bethel Kids will have a lemonade stand to help raise money for their new church. The lemonade stand is located at the parking lot across from Hiway 18 and across the street from the West City Park Ball Diamond. \nSwing by for lemonade and cookies. There will be a different lemonade flavor every week. A drive through service will also be available.
URL:https://kiwaradio.com/event/bethel-kids-lemonade-stand/
CATEGORIES:Community Calendar - Have an event happening? Email us at newstips@kiwaradio.com!
END:VEVENT
BEGIN:VEVENT
DTSTART;TZID=America/Chicago:20240603T113000
DTEND;TZID=America/Chicago:20240809T124500
DTSTAMP:20260421T225423
CREATED:20240521T180735Z
LAST-MODIFIED:20240521T180735Z
UID:10008130-1717414200-1723207500@kiwaradio.com
SUMMARY:Free Summer Meals at the Sheldon East Elementary school
DESCRIPTION:Sheldon schools are serving free lunch meals starting June 3 and running to August 9 from 11:30 a.m. to 12:45 p.m. at the East Elementary Caeteria in Sheldon. These meals are available for children and teen 18 and under. \nFor kids that need a ride\, the bus schedule each day is below: \n11:00 a.m. Pine Street \n11:05 a.m. Little Orabs Learning Center \n11:11 a.m. Middle School \n11:17 a.m. Prairie Trail Road and Birch Lane \n11:23 a.m. Christian school \n11:35 a.m. Bethel \n11:40 a.m. Love Inc. \n11:44 a.m. Western Ave./ West 8th Street \n11:48 a.m. South Third Ave. \n11:53 a.m. St. Pats \n11:56 a.m. Community Gardens \nReminder: Please be waiting at the stop approximately five minutes before the assigned time. \n 
URL:https://kiwaradio.com/event/free-summer-meals-at-the-sheldon-east-elementary-school/
CATEGORIES:Community Calendar - Have an event happening? Email us at newstips@kiwaradio.com!
END:VEVENT
BEGIN:VEVENT
DTSTART;TZID=America/Chicago:20240603T163000
DTEND;TZID=America/Chicago:20240603T183000
DTSTAMP:20260421T225423
CREATED:20240520T160959Z
LAST-MODIFIED:20240520T160959Z
UID:10008125-1717432200-1717439400@kiwaradio.com
SUMMARY:Farmer's Market
DESCRIPTION:There will be a Farmer’s Market in Sheldon running from 4:30 p.m. to 6:30 p.m.
URL:https://kiwaradio.com/event/farmers-market/
CATEGORIES:Community Calendar - Have an event happening? Email us at newstips@kiwaradio.com!
END:VEVENT
BEGIN:VEVENT
DTSTART;TZID=America/Chicago:20240604T081500
DTEND;TZID=America/Chicago:20240604T084500
DTSTAMP:20260421T225423
CREATED:20240522T133621Z
LAST-MODIFIED:20240522T133621Z
UID:10008131-1717488900-1717490700@kiwaradio.com
SUMMARY:Atlas of Lyon County Breakfast
DESCRIPTION:Atlas of Lyon County is working with area donors and volunteers to provide a healthy breakfast meal for students in grades K-8 at the Atlas Ministry Center. \nMeals will be served Tuesdays & Thursdays\, from 8:15-8:45\, starting June 4. \nTo learn more about this program\, go to https://atlasoflyoncounty.org/ministries/summer-breakfast-program/ or call 712-472-9016
URL:https://kiwaradio.com/event/atlas-of-lyon-county-breakfast/
CATEGORIES:Community Calendar - Have an event happening? Email us at newstips@kiwaradio.com!
END:VEVENT
BEGIN:VEVENT
DTSTART;VALUE=DATE:20240605
DTEND;VALUE=DATE:20240608
DTSTAMP:20260421T225423
CREATED:20240605T185353Z
LAST-MODIFIED:20240605T185353Z
UID:10008155-1717545600-1717804799@kiwaradio.com
SUMMARY:Garage Sale at 804 8th Street in Sheldon
DESCRIPTION:Garage Sale happening from today to Friday at 804 8th Street in Sheldon. The garage sale will have fishing\, decorations\, sporting goods\, baby boy and girls stuff\, two new gateway computers\, airhead tubes and much\, much more.
URL:https://kiwaradio.com/event/garage-sale-at-804-8th-street-in-sheldon/
CATEGORIES:Community Calendar - Have an event happening? Email us at newstips@kiwaradio.com!
END:VEVENT
BEGIN:VEVENT
DTSTART;TZID=America/Chicago:20240605T110000
DTEND;TZID=America/Chicago:20240605T180000
DTSTAMP:20260421T225423
CREATED:20240605T134501Z
LAST-MODIFIED:20240605T134918Z
UID:10008150-1717585200-1717610400@kiwaradio.com
SUMMARY:Multi-family garage sale at 1605 Oak Street in Sheldon
DESCRIPTION:Multi family garage sale happening on June 5\, 6\, 7\, 8. The garage sale will be open today from 11 a.m. to 6 p.m.; Thursday from 9 a.m. to 6 p.m.; Friday from 9 a.m. to about 6 p.m. or as long as there is business and Saturday from 9 a.m. to 11 a.m. The garage sale will have home décor\, glassware\, children’s books\, planters\, vintage dolls and quilts\, plus young adult and women’s and men’s clothes. Just lost of stuff. The garage sale is located on 1605 Oak Street in Sheldon.
URL:https://kiwaradio.com/event/multi-family-garage-sale-at-1605-oak-street-in-sheldon-3/
CATEGORIES:Community Calendar - Have an event happening? Email us at newstips@kiwaradio.com!
END:VEVENT
BEGIN:VEVENT
DTSTART;TZID=America/Chicago:20240606T081500
DTEND;TZID=America/Chicago:20240606T084500
DTSTAMP:20260421T225423
CREATED:20240522T133712Z
LAST-MODIFIED:20240522T133712Z
UID:10008132-1717661700-1717663500@kiwaradio.com
SUMMARY:Atlas of Lyon County Breakfast
DESCRIPTION:Atlas of Lyon County is working with area donors and volunteers to provide a healthy breakfast meal for students in grades K-8 at the Atlas Ministry Center. \nMeals will be served Tuesdays & Thursdays\, from 8:15-8:45\, starting June 4. \nTo learn more about this program\, go to https://atlasoflyoncounty.org/ministries/summer-breakfast-program/ or call 712-472-9016
URL:https://kiwaradio.com/event/atlas-of-lyon-county-breakfast-2/
CATEGORIES:Community Calendar - Have an event happening? Email us at newstips@kiwaradio.com!
END:VEVENT
BEGIN:VEVENT
DTSTART;TZID=America/Chicago:20240606T090000
DTEND;TZID=America/Chicago:20240606T180000
DTSTAMP:20260421T225423
CREATED:20240605T134548Z
LAST-MODIFIED:20240605T134957Z
UID:10008151-1717664400-1717696800@kiwaradio.com
SUMMARY:Multi-family garage sale at 1605 Oak Street in Sheldon
DESCRIPTION:Multi family garage sale happening on June 5\, 6\, 7\, 8. The garage sale will be open today from 11 a.m. to 6 p.m.; Thursday from 9 a.m. to 6 p.m.; Friday from 9 a.m. to about 6 p.m. or as long as there is business and Saturday from 9 a.m. to 11 a.m. The garage sale will have home décor\, glassware\, children’s books\, planters\, vintage dolls and quilts\, plus young adult and women’s and men’s clothes. Just lost of stuff. The garage sale is located on 1605 Oak Street in Sheldon.
URL:https://kiwaradio.com/event/multi-family-garage-sale-at-1605-oak-street-in-sheldon-4/
CATEGORIES:Community Calendar - Have an event happening? Email us at newstips@kiwaradio.com!
END:VEVENT
BEGIN:VEVENT
DTSTART;TZID=America/Chicago:20240606T130000
DTEND;TZID=America/Chicago:20240606T140000
DTSTAMP:20260421T225423
CREATED:20240507T170157Z
LAST-MODIFIED:20240507T170157Z
UID:10008110-1717678800-1717682400@kiwaradio.com
SUMMARY:Sibley Public Library home delivery
DESCRIPTION:
URL:https://kiwaradio.com/event/sibley-public-library-home-delivery-3/
CATEGORIES:Community Calendar - Have an event happening? Email us at newstips@kiwaradio.com!
END:VEVENT
BEGIN:VEVENT
DTSTART;TZID=America/Chicago:20240606T190000
DTEND;TZID=America/Chicago:20240606T210000
DTSTAMP:20260421T225423
CREATED:20240526T014628Z
LAST-MODIFIED:20240526T014628Z
UID:10008145-1717700400-1717707600@kiwaradio.com
SUMMARY:The Klaassen Family Ice Cream Social
DESCRIPTION:On Tuesday\, June 6\, there will be an ice cream social at the Christian Retirement Home in Sheldon to benefit the Klaassen family. \nBring your lawn chairs and use the main enterance. The ice cream social begins at 7 p.m.
URL:https://kiwaradio.com/event/the-klaassen-family-ice-cream-social/
CATEGORIES:Community Calendar - Have an event happening? Email us at newstips@kiwaradio.com!
END:VEVENT
BEGIN:VEVENT
DTSTART;TZID=America/Chicago:20240607T070000
DTEND;TZID=America/Chicago:20240607T163000
DTSTAMP:20260421T225423
CREATED:20240604T193123Z
LAST-MODIFIED:20240604T193123Z
UID:10008147-1717743600-1717777800@kiwaradio.com
SUMMARY:26th Annual Hope Haven Fishing Benefit
DESCRIPTION:This Friday looks like a fantastic day for fishing! Join Hope Haven for their 26th Annual Fishing Benefit\, where casting your fishing line will make a real impact! \nHelp Hope Haven make a difference in the lives of those in need by supporting Hope Haven on Friday\, June 7\, at Fort Randel Dam in Pickstown\, South Dakota. The event runs from 7:00 a.m. to 4:30 p.m. \nRegistration fee is $6o per angler\, but children under 16 are free. There will be incredible weigh-in prizes for all categories\, a delicious grab-and-go pork loin meal\, a great entry gift all on top of a fun day of fishing. \nYour involvement can truly make a difference and Hope Haven will be honored if you joined them on the water. To register\, go to June Events (mailchi.mp) and click on the CLICK HERE button on the page\, or call/email Brenda Gisolf 712-476-3116/bgisolf@hopehaven.org
URL:https://kiwaradio.com/event/26th-annual-hope-haven-fishing-benefit/
CATEGORIES:Community Calendar - Have an event happening? Email us at newstips@kiwaradio.com!
END:VEVENT
BEGIN:VEVENT
DTSTART;TZID=America/Chicago:20240607T070000
DTEND;TZID=America/Chicago:20240607T180000
DTSTAMP:20260421T225423
CREATED:20240426T200131Z
LAST-MODIFIED:20240426T200131Z
UID:10008096-1717743600-1717783200@kiwaradio.com
SUMMARY:Hope Haven Fishing Benefit
DESCRIPTION:Looking for a reason to do some fishing on the Missouri River this summer? Here’s your chance! \nHope Haven invites you to join us for the 26th Annual Fishing Benefit on Friday\, June 7\, starting at 7 a.m. at Fort Randall Dam in Pickstown\, South Dakota. Registration fee is $60 per angler and children under 16 are free. \nThe entry fee includes incredible weigh-in prizes for all categories\, an entry gift\, and a grab-and-go pork loin meal. Register online at hopehaven.org/events or call/email Brenda Gisolf at 712-476-3116\, or bgisolf@hopehaven.org
URL:https://kiwaradio.com/event/hope-haven-fishing-benefit/
CATEGORIES:Community Calendar - Have an event happening? Email us at newstips@kiwaradio.com!
END:VEVENT
BEGIN:VEVENT
DTSTART;TZID=America/Chicago:20240607T090000
DTEND;TZID=America/Chicago:20240607T170000
DTSTAMP:20260421T225423
CREATED:20240607T131112Z
LAST-MODIFIED:20240607T131112Z
UID:10008157-1717750800-1717779600@kiwaradio.com
SUMMARY:Garage Sale at 620 5th Ave in Sheldon
DESCRIPTION:Garage Sale happening today and tomorrow at 620 5th Ave here in Sheldon. Two garages full and will be open from 9 a.m. to 5 p.m. both days. The garage sale will have jewelry\, books\, vintage and brand new clothes and shoes\, furniture\, a bike\, Harry Potter books\, kitchen goods\, holiday décor\, toys\, dog crate\, airplanes made out of cans\, neckties\, lamps\, purses\, bedding\, and great deals on a lot of miscellaneous items.
URL:https://kiwaradio.com/event/garage-sale-at-620-5th-ave-in-sheldon-2/
CATEGORIES:Community Calendar - Have an event happening? Email us at newstips@kiwaradio.com!
END:VEVENT
BEGIN:VEVENT
DTSTART;TZID=America/Chicago:20240607T090000
DTEND;TZID=America/Chicago:20240607T170000
DTSTAMP:20260421T225423
CREATED:20240607T131213Z
LAST-MODIFIED:20240607T131213Z
UID:10008158-1717750800-1717779600@kiwaradio.com
SUMMARY:Garage Sale at 620 5th Ave in Sheldon
DESCRIPTION:Garage Sale happening today at 620 5th Ave here in Sheldon. Two garages full and will be open from 9 a.m. to 5 p.m. both days. The garage sale will have jewelry\, books\, vintage and brand new clothes and shoes\, furniture\, a bike\, Harry Potter books\, kitchen goods\, holiday décor\, toys\, dog crate\, airplanes made out of cans\, neckties\, lamps\, purses\, bedding\, and great deals on a lot of miscellaneous items.
URL:https://kiwaradio.com/event/garage-sale-at-620-5th-ave-in-sheldon-3/
CATEGORIES:Community Calendar - Have an event happening? Email us at newstips@kiwaradio.com!
END:VEVENT
BEGIN:VEVENT
DTSTART;TZID=America/Chicago:20240607T090000
DTEND;TZID=America/Chicago:20240607T180000
DTSTAMP:20260421T225423
CREATED:20240605T134725Z
LAST-MODIFIED:20240605T135038Z
UID:10008152-1717750800-1717783200@kiwaradio.com
SUMMARY:Multi-family garage sale at 1605 Oak Street in Sheldon
DESCRIPTION:Multi family garage sale happening on June 5\, 6\, 7\, 8. The garage sale will be open today from 11 a.m. to 6 p.m.; Thursday from 9 a.m. to 6 p.m.; Friday from 9 a.m. to about 6 p.m. or as long as there is business and Saturday from 9 a.m. to 11 a.m. The garage sale will have home décor\, glassware\, children’s books\, planters\, vintage dolls and quilts\, plus young adult and women’s and men’s clothes. Just lost of stuff. The garage sale is located on 1605 Oak Street in Sheldon.
URL:https://kiwaradio.com/event/multi-family-garage-sale-at-1605-oak-street-in-sheldon-5/
CATEGORIES:Community Calendar - Have an event happening? Email us at newstips@kiwaradio.com!
END:VEVENT
BEGIN:VEVENT
DTSTART;TZID=America/Chicago:20240607T100000
DTEND;TZID=America/Chicago:20240607T120000
DTSTAMP:20260421T225423
CREATED:20240513T191909Z
LAST-MODIFIED:20240513T191920Z
UID:10008118-1717754400-1717761600@kiwaradio.com
SUMMARY:Practical Farmers of Iowa Field Day
DESCRIPTION:Torray and Erin Wilson\, of Paullina\, will be hosting a Practical Farmers of Iowa (PFI) field day about dairy farming. The event is free to attend and open to the public. More information about the field day is below and full details can be found on the event‘s webpage. \n  \nDairy Grazing\, Silvopasture and Compost \n  \nTorray and Erin Wilson are part of the third generation on the Wilson farm. Each family member active in the farm is responsible for a different crop or livestock enterprise. Torray and Erin operate the grass-based dairy\, selling milk to Organic Valley since 2016. They both have training in Holistic Management and continue to find those insights helpful in managing the complexity of the farm and family. \n  \nLunch will follow the field day. \n  \nDate: Friday\, June 7 \n  \nTime: 10 a.m.-Noon \n  \nLocation: 4375 Pierce Ave. Paullina\, IA 51046 \n  \n     RSVP: Attendees can RSVP by visiting the event page or calling PFI at (515)-232-5661. \n  \nFor more information about PFI field days\, see our Field Days webpage. Also\, attached is a photo of Erin and Torray.
URL:https://kiwaradio.com/event/practical-farmers-of-iowa-field-day/
CATEGORIES:Community Calendar - Have an event happening? Email us at newstips@kiwaradio.com!
ATTACH;FMTTYPE=image/jpeg:https://kiwaradio.com/wp-content/uploads/Erin-and-Torray-Wilson-PFI.jpg
END:VEVENT
BEGIN:VEVENT
DTSTART;TZID=America/Chicago:20240607T110000
DTEND;TZID=America/Chicago:20240607T160000
DTSTAMP:20260421T225423
CREATED:20240605T145414Z
LAST-MODIFIED:20240605T145414Z
UID:10008154-1717758000-1717776000@kiwaradio.com
SUMMARY:T-Mobile Store Grand Opening Event
DESCRIPTION:Join the T-Mobile Store at 101 North Runger Avenue in Sheldon this Friday\, June 7th \, from 11am to 4pm\,  for their Grand Opening event.  They’ll have games and giveaways\, and the Antojitos Mexicanos taco truck will be on site.  That’s this Friday\, June 7th\, 11am to 4pm at T-Mobile\, 101 North Runger Avenue in Sheldon.
URL:https://kiwaradio.com/event/t-mobile-store-grand-opening-event/
CATEGORIES:Community Calendar - Have an event happening? Email us at newstips@kiwaradio.com!
END:VEVENT
BEGIN:VEVENT
DTSTART;TZID=America/Chicago:20240608T090000
DTEND;TZID=America/Chicago:20240608T110000
DTSTAMP:20260421T225423
CREATED:20240605T134827Z
LAST-MODIFIED:20240605T134827Z
UID:10008153-1717837200-1717844400@kiwaradio.com
SUMMARY:Multi-family garage sale at 1605 Oak Street in Sheldon
DESCRIPTION:Multi family garage sale happening on June 5\, 6\, 7\, 8. The garage sale will be open today from 11 a.m. to 6 p.m.; Thursday from 9 a.m. to 6 p.m.; Friday from 9 a.m. to about 6 p.m. or as long as there is business and Saturday from 9 a.m. to 11 a.m.. The garage sale will have home décor\, glassware\, children’s books\, planters\, vintage dolls and quilts\, plus young adult and women’s and men’s clothes. Just lost of stuff. The garage sale is located on 1605 Oak Street in Sheldon.
URL:https://kiwaradio.com/event/multi-family-garage-sale-at-1605-oak-street-in-sheldon-6/
CATEGORIES:Community Calendar - Have an event happening? Email us at newstips@kiwaradio.com!
END:VEVENT
BEGIN:VEVENT
DTSTART;TZID=America/Chicago:20240608T103000
DTEND;TZID=America/Chicago:20240608T133000
DTSTAMP:20260421T225423
CREATED:20240222T140341Z
LAST-MODIFIED:20251121T142639Z
UID:10007617-1717842600-1717853400@kiwaradio.com
SUMMARY:Lego Saturdays at Sheldon Public Library
DESCRIPTION:Lego Saturdays – Saturdays\, 10:30 – 1:30 \nDrop in and build with Legos. All ages – children under 8 must be with a caregiver
URL:https://kiwaradio.com/event/lego-saturdays-at-sheldon-public-library-6/2024-06-08/
CATEGORIES:Community Calendar - Have an event happening? Email us at newstips@kiwaradio.com!
ATTACH;FMTTYPE=image/jpeg:https://kiwaradio.com/wp-content/uploads/2024/02/Lego-Saturdays-25-26.jpg
END:VEVENT
BEGIN:VEVENT
DTSTART;TZID=America/Chicago:20240610T113000
DTEND;TZID=America/Chicago:20240610T133000
DTSTAMP:20260421T225423
CREATED:20240523T171139Z
LAST-MODIFIED:20240523T171139Z
UID:10008140-1718019000-1718026200@kiwaradio.com
SUMMARY:Bethel Kids Lemonade Stand
DESCRIPTION:On Mondays in June Bethel Kids will have a lemondae stand to help raise funds for their new church. The lemonade stand is located on Hiway 18 across from the West City Park Ball Diamond. \nCome on by for lemonade and cookies. There will be a different lemonade flavor every week. A free will donation will also be accepted and a drive through service will also be available.
URL:https://kiwaradio.com/event/bethel-kids-lemonade-stand-2/
CATEGORIES:Community Calendar - Have an event happening? Email us at newstips@kiwaradio.com!
END:VEVENT
BEGIN:VEVENT
DTSTART;TZID=America/Chicago:20240610T163000
DTEND;TZID=America/Chicago:20240610T183000
DTSTAMP:20260421T225423
CREATED:20240520T161057Z
LAST-MODIFIED:20240520T161057Z
UID:10008126-1718037000-1718044200@kiwaradio.com
SUMMARY:Farmer's Market
DESCRIPTION:There will be a Farmer’s Market in Sheldon running from 4:30 p.m. to 6:30 p.m.
URL:https://kiwaradio.com/event/farmers-market-2/
CATEGORIES:Community Calendar - Have an event happening? Email us at newstips@kiwaradio.com!
END:VEVENT
BEGIN:VEVENT
DTSTART;TZID=America/Chicago:20240610T170000
DTEND;TZID=America/Chicago:20240610T200000
DTSTAMP:20260421T225423
CREATED:20240610T135635Z
LAST-MODIFIED:20240610T135635Z
UID:10008159-1718038800-1718049600@kiwaradio.com
SUMMARY:Tip Night at the Sheldon Pizza Ranch
DESCRIPTION:There is a Tip Night at the Sheldon Pizza Ranch from 5 p.m. to 8 p.m. to help benefit Alzheimer’s Association. A portion of the sales will go to the Alzheimer’s Association.
URL:https://kiwaradio.com/event/tip-night-at-the-sheldon-pizza-ranch/
CATEGORIES:Community Calendar - Have an event happening? Email us at newstips@kiwaradio.com!
END:VEVENT
BEGIN:VEVENT
DTSTART;TZID=America/Chicago:20240611T081500
DTEND;TZID=America/Chicago:20240611T084500
DTSTAMP:20260421T225423
CREATED:20240522T133758Z
LAST-MODIFIED:20240522T133758Z
UID:10008133-1718093700-1718095500@kiwaradio.com
SUMMARY:Atlas of Lyon County Breakfast
DESCRIPTION:Atlas of Lyon County is working with area donors and volunteers to provide a healthy breakfast meal for students in grades K-8 at the Atlas Ministry Center. \nMeals will be served Tuesdays & Thursdays\, from 8:15-8:45\, starting June 4. \nTo learn more about this program\, go to https://atlasoflyoncounty.org/ministries/summer-breakfast-program/ or call 712-472-9016
URL:https://kiwaradio.com/event/atlas-of-lyon-county-breakfast-3/
CATEGORIES:Community Calendar - Have an event happening? Email us at newstips@kiwaradio.com!
END:VEVENT
BEGIN:VEVENT
DTSTART;TZID=America/Chicago:20240613T081500
DTEND;TZID=America/Chicago:20240613T084500
DTSTAMP:20260421T225423
CREATED:20240522T133841Z
LAST-MODIFIED:20240522T133841Z
UID:10008134-1718266500-1718268300@kiwaradio.com
SUMMARY:Atlas of Lyon County Breakfast
DESCRIPTION:Atlas of Lyon County is working with area donors and volunteers to provide a healthy breakfast meal for students in grades K-8 at the Atlas Ministry Center. \nMeals will be served Tuesdays & Thursdays\, from 8:15-8:45\, starting June 4. \nTo learn more about this program\, go to https://atlasoflyoncounty.org/ministries/summer-breakfast-program/ or call 712-472-9016
URL:https://kiwaradio.com/event/atlas-of-lyon-county-breakfast-4/
CATEGORIES:Community Calendar - Have an event happening? Email us at newstips@kiwaradio.com!
END:VEVENT
BEGIN:VEVENT
DTSTART;TZID=America/Chicago:20240613T090000
DTEND;TZID=America/Chicago:20240613T103000
DTSTAMP:20260421T225423
CREATED:20240613T170113Z
LAST-MODIFIED:20240613T170113Z
UID:10008164-1718269200-1718274600@kiwaradio.com
SUMMARY:SCDC Friday coffee
DESCRIPTION:Join the SCDC for Friday coffee June 21st to meet the new staff in the SCDC office. The coffee will be held in the upper level of the community building from 9:00am-10:30am.
URL:https://kiwaradio.com/event/scdc-friday-coffee/
CATEGORIES:Community Calendar - Have an event happening? Email us at newstips@kiwaradio.com!
END:VEVENT
BEGIN:VEVENT
DTSTART;TZID=America/Chicago:20240613T163000
DTEND;TZID=America/Chicago:20240613T203000
DTSTAMP:20260421T225423
CREATED:20240507T170246Z
LAST-MODIFIED:20240507T170246Z
UID:10008111-1718296200-1718310600@kiwaradio.com
SUMMARY:Sibley Public Library Board Meeting
DESCRIPTION:
URL:https://kiwaradio.com/event/sibley-public-library-board-meeting-2/
END:VEVENT
BEGIN:VEVENT
DTSTART;TZID=America/Chicago:20240615T103000
DTEND;TZID=America/Chicago:20240615T133000
DTSTAMP:20260421T225423
CREATED:20240222T140341Z
LAST-MODIFIED:20251121T142639Z
UID:10007618-1718447400-1718458200@kiwaradio.com
SUMMARY:Lego Saturdays at Sheldon Public Library
DESCRIPTION:Lego Saturdays – Saturdays\, 10:30 – 1:30 \nDrop in and build with Legos. All ages – children under 8 must be with a caregiver
URL:https://kiwaradio.com/event/lego-saturdays-at-sheldon-public-library-6/2024-06-15/
CATEGORIES:Community Calendar - Have an event happening? Email us at newstips@kiwaradio.com!
ATTACH;FMTTYPE=image/jpeg:https://kiwaradio.com/wp-content/uploads/2024/02/Lego-Saturdays-25-26.jpg
END:VEVENT
END:VCALENDAR